BEGIN:VCALENDAR
VERSION:2.0
PRODID:-//Edmonton Mandir - ECPv6.15.20//NONSGML v1.0//EN
CALSCALE:GREGORIAN
METHOD:PUBLISH
X-WR-CALNAME:Edmonton Mandir
X-ORIGINAL-URL:https://edmontonmandir.com
X-WR-CALDESC:Events for Edmonton Mandir
REFRESH-INTERVAL;VALUE=DURATION:PT1H
X-Robots-Tag:noindex
X-PUBLISHED-TTL:PT1H
BEGIN:VTIMEZONE
TZID:America/Edmonton
BEGIN:DAYLIGHT
TZOFFSETFROM:-0700
TZOFFSETTO:-0600
TZNAME:MDT
DTSTART:20180311T090000
END:DAYLIGHT
BEGIN:STANDARD
TZOFFSETFROM:-0600
TZOFFSETTO:-0700
TZNAME:MST
DTSTART:20181104T080000
END:STANDARD
BEGIN:DAYLIGHT
TZOFFSETFROM:-0700
TZOFFSETTO:-0600
TZNAME:MDT
DTSTART:20190310T090000
END:DAYLIGHT
BEGIN:STANDARD
TZOFFSETFROM:-0600
TZOFFSETTO:-0700
TZNAME:MST
DTSTART:20191103T080000
END:STANDARD
BEGIN:DAYLIGHT
TZOFFSETFROM:-0700
TZOFFSETTO:-0600
TZNAME:MDT
DTSTART:20200308T090000
END:DAYLIGHT
BEGIN:STANDARD
TZOFFSETFROM:-0600
TZOFFSETTO:-0700
TZNAME:MST
DTSTART:20201101T080000
END:STANDARD
END:VTIMEZONE
BEGIN:VEVENT
DTSTART;TZID=America/Edmonton:20191012T070000
DTEND;TZID=America/Edmonton:20191012T070000
DTSTAMP:20260419T202849
CREATED:20190707T213403Z
LAST-MODIFIED:20190707T213403Z
UID:7600-1570863600-1570863600@edmontonmandir.com
SUMMARY:SATYANARYAN VRAT
DESCRIPTION:
URL:https://edmontonmandir.com/event/satyanaryan-vrat/
END:VEVENT
BEGIN:VEVENT
DTSTART;TZID=America/Edmonton:20191012T070000
DTEND;TZID=America/Edmonton:20191012T070000
DTSTAMP:20260419T202849
CREATED:20190707T213402Z
LAST-MODIFIED:20190707T213402Z
UID:7598-1570863600-1570863600@edmontonmandir.com
SUMMARY:KOJAGARI VRAT
DESCRIPTION:
URL:https://edmontonmandir.com/event/kojagari-vrat/
END:VEVENT
BEGIN:VEVENT
DTSTART;TZID=America/Edmonton:20191012T070000
DTEND;TZID=America/Edmonton:20191012T070000
DTSTAMP:20260419T202849
CREATED:20190707T213402Z
LAST-MODIFIED:20190707T213402Z
UID:7599-1570863600-1570863600@edmontonmandir.com
SUMMARY:SHARAD POORNIMA
DESCRIPTION:
URL:https://edmontonmandir.com/event/sharad-poornima/
END:VEVENT
BEGIN:VEVENT
DTSTART;TZID=America/Edmonton:20191010T070000
DTEND;TZID=America/Edmonton:20191010T070000
DTSTAMP:20260419T202849
CREATED:20190707T213401Z
LAST-MODIFIED:20190707T213401Z
UID:7597-1570690800-1570690800@edmontonmandir.com
SUMMARY:PRADOSH VRAT
DESCRIPTION:
URL:https://edmontonmandir.com/event/pradosh-vrat-4/
END:VEVENT
BEGIN:VEVENT
DTSTART;TZID=America/Edmonton:20191008T070000
DTEND;TZID=America/Edmonton:20191008T070000
DTSTAMP:20260419T202849
CREATED:20190707T213401Z
LAST-MODIFIED:20190707T213401Z
UID:7596-1570518000-1570518000@edmontonmandir.com
SUMMARY:PAPANKUSHA EKADASHI
DESCRIPTION:
URL:https://edmontonmandir.com/event/papankusha-ekadashi/
END:VEVENT
BEGIN:VEVENT
DTSTART;TZID=America/Edmonton:20191007T070000
DTEND;TZID=America/Edmonton:20191007T070000
DTSTAMP:20260419T202849
CREATED:20190707T213401Z
LAST-MODIFIED:20190707T213401Z
UID:7593-1570431600-1570431600@edmontonmandir.com
SUMMARY:SARASWATI VISARJAN
DESCRIPTION:
URL:https://edmontonmandir.com/event/saraswati-visarjan/
END:VEVENT
BEGIN:VEVENT
DTSTART;TZID=America/Edmonton:20191007T070000
DTEND;TZID=America/Edmonton:20191007T070000
DTSTAMP:20260419T202849
CREATED:20190707T213401Z
LAST-MODIFIED:20190707T213401Z
UID:7594-1570431600-1570431600@edmontonmandir.com
SUMMARY:VIJAYADASMI
DESCRIPTION:
URL:https://edmontonmandir.com/event/vijayadasmi/
END:VEVENT
BEGIN:VEVENT
DTSTART;TZID=America/Edmonton:20191007T070000
DTEND;TZID=America/Edmonton:20191007T070000
DTSTAMP:20260419T202849
CREATED:20190707T213401Z
LAST-MODIFIED:20190707T213401Z
UID:7595-1570431600-1570431600@edmontonmandir.com
SUMMARY:DUSHERA
DESCRIPTION:
URL:https://edmontonmandir.com/event/dushera/
END:VEVENT
BEGIN:VEVENT
DTSTART;TZID=America/Edmonton:20191006T070000
DTEND;TZID=America/Edmonton:20191006T070000
DTSTAMP:20260419T202849
CREATED:20190707T213400Z
LAST-MODIFIED:20190707T213400Z
UID:7592-1570345200-1570345200@edmontonmandir.com
SUMMARY:MAHANAVMI POOJAN
DESCRIPTION:
URL:https://edmontonmandir.com/event/mahanavmi-poojan/
END:VEVENT
BEGIN:VEVENT
DTSTART;TZID=America/Edmonton:20191005T070000
DTEND;TZID=America/Edmonton:20191005T070000
DTSTAMP:20260419T202849
CREATED:20190707T213400Z
LAST-MODIFIED:20190707T213400Z
UID:7590-1570258800-1570258800@edmontonmandir.com
SUMMARY:DURGA ASHTAMI
DESCRIPTION:
URL:https://edmontonmandir.com/event/durga-ashtami/
END:VEVENT
BEGIN:VEVENT
DTSTART;TZID=America/Edmonton:20191005T070000
DTEND;TZID=America/Edmonton:20191005T070000
DTSTAMP:20260419T202849
CREATED:20190707T213400Z
LAST-MODIFIED:20190707T213400Z
UID:7591-1570258800-1570258800@edmontonmandir.com
SUMMARY:SARASWATI POOJA
DESCRIPTION:
URL:https://edmontonmandir.com/event/saraswati-pooja/
END:VEVENT
BEGIN:VEVENT
DTSTART;TZID=America/Edmonton:20191003T070000
DTEND;TZID=America/Edmonton:20191003T070000
DTSTAMP:20260419T202849
CREATED:20190707T213400Z
LAST-MODIFIED:20190707T213400Z
UID:7588-1570086000-1570086000@edmontonmandir.com
SUMMARY:BILVA NIMANTARAN
DESCRIPTION:
URL:https://edmontonmandir.com/event/bilva-nimantaran/
END:VEVENT
BEGIN:VEVENT
DTSTART;TZID=America/Edmonton:20191003T070000
DTEND;TZID=America/Edmonton:20191003T070000
DTSTAMP:20260419T202849
CREATED:20190707T213400Z
LAST-MODIFIED:20190707T213400Z
UID:7589-1570086000-1570086000@edmontonmandir.com
SUMMARY:SKANDA SHASHTI
DESCRIPTION:
URL:https://edmontonmandir.com/event/skanda-shashti/
END:VEVENT
BEGIN:VEVENT
DTSTART;TZID=America/Edmonton:20191002T070000
DTEND;TZID=America/Edmonton:20191002T070000
DTSTAMP:20260419T202849
CREATED:20190707T213359Z
LAST-MODIFIED:20190707T213359Z
UID:7587-1569999600-1569999600@edmontonmandir.com
SUMMARY:LALITA PANCHAMI
DESCRIPTION:
URL:https://edmontonmandir.com/event/lalita-panchami/
END:VEVENT
BEGIN:VEVENT
DTSTART;TZID=America/Edmonton:20190928T070000
DTEND;TZID=America/Edmonton:20190928T070000
DTSTAMP:20260419T202849
CREATED:20190707T213359Z
LAST-MODIFIED:20190707T213359Z
UID:7586-1569654000-1569654000@edmontonmandir.com
SUMMARY:GHATSTHAPANA
DESCRIPTION:
URL:https://edmontonmandir.com/event/ghatsthapana/
END:VEVENT
BEGIN:VEVENT
DTSTART;TZID=America/Edmonton:20190928T070000
DTEND;TZID=America/Edmonton:20190928T070000
DTSTAMP:20260419T202849
CREATED:20190707T213359Z
LAST-MODIFIED:20190707T213359Z
UID:7585-1569654000-1569654000@edmontonmandir.com
SUMMARY:SHRADA NAVRATRI BEGINS
DESCRIPTION:
URL:https://edmontonmandir.com/event/shrada-navratri-begins/
END:VEVENT
BEGIN:VEVENT
DTSTART;TZID=America/Edmonton:20190927T070000
DTEND;TZID=America/Edmonton:20190927T070000
DTSTAMP:20260419T202849
CREATED:20190707T213359Z
LAST-MODIFIED:20190707T213359Z
UID:7583-1569567600-1569567600@edmontonmandir.com
SUMMARY:PITRA VISARJAN AMAVASYA
DESCRIPTION:
URL:https://edmontonmandir.com/event/pitra-visarjan-amavasya/
END:VEVENT
BEGIN:VEVENT
DTSTART;TZID=America/Edmonton:20190927T070000
DTEND;TZID=America/Edmonton:20190927T070000
DTSTAMP:20260419T202849
CREATED:20190707T213359Z
LAST-MODIFIED:20190707T213359Z
UID:7584-1569567600-1569567600@edmontonmandir.com
SUMMARY:SHRADHA ENDS
DESCRIPTION:
URL:https://edmontonmandir.com/event/shradha-ends/
END:VEVENT
BEGIN:VEVENT
DTSTART;TZID=America/Edmonton:20190926T070000
DTEND;TZID=America/Edmonton:20190926T070000
DTSTAMP:20260419T202849
CREATED:20190707T213358Z
LAST-MODIFIED:20190707T213358Z
UID:7582-1569481200-1569481200@edmontonmandir.com
SUMMARY:PRADOSH VRAT
DESCRIPTION:
URL:https://edmontonmandir.com/event/pradosh-vrat-3/
END:VEVENT
BEGIN:VEVENT
DTSTART;TZID=America/Edmonton:20190924T070000
DTEND;TZID=America/Edmonton:20190924T070000
DTSTAMP:20260419T202849
CREATED:20190707T213358Z
LAST-MODIFIED:20190707T213358Z
UID:7580-1569308400-1569308400@edmontonmandir.com
SUMMARY:INDIRA EKADASHI
DESCRIPTION:
URL:https://edmontonmandir.com/event/indira-ekadashi/
END:VEVENT
BEGIN:VEVENT
DTSTART;TZID=America/Edmonton:20190924T070000
DTEND;TZID=America/Edmonton:20190924T070000
DTSTAMP:20260419T202849
CREATED:20190707T213358Z
LAST-MODIFIED:20190707T213358Z
UID:7581-1569308400-1569308400@edmontonmandir.com
SUMMARY:EKADASHI SHRADHA
DESCRIPTION:
URL:https://edmontonmandir.com/event/ekadashi-shradha/
END:VEVENT
BEGIN:VEVENT
DTSTART;TZID=America/Edmonton:20190921T070000
DTEND;TZID=America/Edmonton:20190921T070000
DTSTAMP:20260419T202849
CREATED:20190707T213358Z
LAST-MODIFIED:20190707T213358Z
UID:7578-1569049200-1569049200@edmontonmandir.com
SUMMARY:ASTAMI SHRADHA
DESCRIPTION:
URL:https://edmontonmandir.com/event/astami-shradha/
END:VEVENT
BEGIN:VEVENT
DTSTART;TZID=America/Edmonton:20190921T070000
DTEND;TZID=America/Edmonton:20190921T070000
DTSTAMP:20260419T202849
CREATED:20190707T213358Z
LAST-MODIFIED:20190707T213358Z
UID:7579-1569049200-1569049200@edmontonmandir.com
SUMMARY:MAHALAXMI VRAT ENDS
DESCRIPTION:
URL:https://edmontonmandir.com/event/mahalaxmi-vrat-ends/
END:VEVENT
BEGIN:VEVENT
DTSTART;TZID=America/Edmonton:20190914T070000
DTEND;TZID=America/Edmonton:20190914T070000
DTSTAMP:20260419T202849
CREATED:20190707T213357Z
LAST-MODIFIED:20190707T213357Z
UID:7577-1568444400-1568444400@edmontonmandir.com
SUMMARY:PITRA PAKSHA SHRADHA BEGINS
DESCRIPTION:
URL:https://edmontonmandir.com/event/pitra-paksha-shradha-begins/
END:VEVENT
BEGIN:VEVENT
DTSTART;TZID=America/Edmonton:20190913T070000
DTEND;TZID=America/Edmonton:20190913T070000
DTSTAMP:20260419T202849
CREATED:20190707T213357Z
LAST-MODIFIED:20190707T213357Z
UID:7574-1568358000-1568358000@edmontonmandir.com
SUMMARY:SATYA NARAYAN VRAT
DESCRIPTION:
URL:https://edmontonmandir.com/event/satya-narayan-vrat-2/
END:VEVENT
BEGIN:VEVENT
DTSTART;TZID=America/Edmonton:20190913T070000
DTEND;TZID=America/Edmonton:20190913T070000
DTSTAMP:20260419T202849
CREATED:20190707T213357Z
LAST-MODIFIED:20190707T213357Z
UID:7575-1568358000-1568358000@edmontonmandir.com
SUMMARY:BHADRA PADA POORNIMA
DESCRIPTION:
URL:https://edmontonmandir.com/event/bhadra-pada-poornima/
END:VEVENT
BEGIN:VEVENT
DTSTART;TZID=America/Edmonton:20190913T070000
DTEND;TZID=America/Edmonton:20190913T070000
DTSTAMP:20260419T202849
CREATED:20190707T213357Z
LAST-MODIFIED:20190707T213357Z
UID:7576-1568358000-1568358000@edmontonmandir.com
SUMMARY:POORNIMA SHRADHA
DESCRIPTION:
URL:https://edmontonmandir.com/event/poornima-shradha/
END:VEVENT
BEGIN:VEVENT
DTSTART;TZID=America/Edmonton:20190912T070000
DTEND;TZID=America/Edmonton:20190912T070000
DTSTAMP:20260419T202849
CREATED:20190707T213357Z
LAST-MODIFIED:20190707T213357Z
UID:7573-1568271600-1568271600@edmontonmandir.com
SUMMARY:ANANTA CHATURDASHI
DESCRIPTION:
URL:https://edmontonmandir.com/event/ananta-chaturdashi/
END:VEVENT
BEGIN:VEVENT
DTSTART;TZID=America/Edmonton:20190910T070000
DTEND;TZID=America/Edmonton:20190910T070000
DTSTAMP:20260419T202849
CREATED:20190707T213356Z
LAST-MODIFIED:20190707T213356Z
UID:7572-1568098800-1568098800@edmontonmandir.com
SUMMARY:ONAM
DESCRIPTION:
URL:https://edmontonmandir.com/event/onam/
END:VEVENT
BEGIN:VEVENT
DTSTART;TZID=America/Edmonton:20190910T070000
DTEND;TZID=America/Edmonton:20190910T070000
DTSTAMP:20260419T202849
CREATED:20190707T213356Z
LAST-MODIFIED:20190707T213356Z
UID:7571-1568098800-1568098800@edmontonmandir.com
SUMMARY:PRADOSH VRAT
DESCRIPTION:
URL:https://edmontonmandir.com/event/pradosh-vrat-2/
END:VEVENT
END:VCALENDAR