BEGIN:VCALENDAR
VERSION:2.0
PRODID:-//Edmonton Mandir - ECPv6.15.20//NONSGML v1.0//EN
CALSCALE:GREGORIAN
METHOD:PUBLISH
X-WR-CALNAME:Edmonton Mandir
X-ORIGINAL-URL:https://edmontonmandir.com
X-WR-CALDESC:Events for Edmonton Mandir
REFRESH-INTERVAL;VALUE=DURATION:PT1H
X-Robots-Tag:noindex
X-PUBLISHED-TTL:PT1H
BEGIN:VTIMEZONE
TZID:America/Edmonton
BEGIN:DAYLIGHT
TZOFFSETFROM:-0700
TZOFFSETTO:-0600
TZNAME:MDT
DTSTART:20180311T090000
END:DAYLIGHT
BEGIN:STANDARD
TZOFFSETFROM:-0600
TZOFFSETTO:-0700
TZNAME:MST
DTSTART:20181104T080000
END:STANDARD
BEGIN:DAYLIGHT
TZOFFSETFROM:-0700
TZOFFSETTO:-0600
TZNAME:MDT
DTSTART:20190310T090000
END:DAYLIGHT
BEGIN:STANDARD
TZOFFSETFROM:-0600
TZOFFSETTO:-0700
TZNAME:MST
DTSTART:20191103T080000
END:STANDARD
BEGIN:DAYLIGHT
TZOFFSETFROM:-0700
TZOFFSETTO:-0600
TZNAME:MDT
DTSTART:20200308T090000
END:DAYLIGHT
BEGIN:STANDARD
TZOFFSETFROM:-0600
TZOFFSETTO:-0700
TZNAME:MST
DTSTART:20201101T080000
END:STANDARD
END:VTIMEZONE
BEGIN:VEVENT
DTSTART;TZID=America/Edmonton:20190913T070000
DTEND;TZID=America/Edmonton:20190913T070000
DTSTAMP:20260419T234500
CREATED:20190707T213357Z
LAST-MODIFIED:20190707T213357Z
UID:7576-1568358000-1568358000@edmontonmandir.com
SUMMARY:POORNIMA SHRADHA
DESCRIPTION:
URL:https://edmontonmandir.com/event/poornima-shradha/
END:VEVENT
BEGIN:VEVENT
DTSTART;TZID=America/Edmonton:20190913T070000
DTEND;TZID=America/Edmonton:20190913T070000
DTSTAMP:20260419T234500
CREATED:20190707T213357Z
LAST-MODIFIED:20190707T213357Z
UID:7574-1568358000-1568358000@edmontonmandir.com
SUMMARY:SATYA NARAYAN VRAT
DESCRIPTION:
URL:https://edmontonmandir.com/event/satya-narayan-vrat-2/
END:VEVENT
BEGIN:VEVENT
DTSTART;TZID=America/Edmonton:20190913T070000
DTEND;TZID=America/Edmonton:20190913T070000
DTSTAMP:20260419T234500
CREATED:20190707T213357Z
LAST-MODIFIED:20190707T213357Z
UID:7575-1568358000-1568358000@edmontonmandir.com
SUMMARY:BHADRA PADA POORNIMA
DESCRIPTION:
URL:https://edmontonmandir.com/event/bhadra-pada-poornima/
END:VEVENT
BEGIN:VEVENT
DTSTART;TZID=America/Edmonton:20190912T070000
DTEND;TZID=America/Edmonton:20190912T070000
DTSTAMP:20260419T234500
CREATED:20190707T213357Z
LAST-MODIFIED:20190707T213357Z
UID:7573-1568271600-1568271600@edmontonmandir.com
SUMMARY:ANANTA CHATURDASHI
DESCRIPTION:
URL:https://edmontonmandir.com/event/ananta-chaturdashi/
END:VEVENT
BEGIN:VEVENT
DTSTART;TZID=America/Edmonton:20190910T070000
DTEND;TZID=America/Edmonton:20190910T070000
DTSTAMP:20260419T234500
CREATED:20190707T213356Z
LAST-MODIFIED:20190707T213356Z
UID:7571-1568098800-1568098800@edmontonmandir.com
SUMMARY:PRADOSH VRAT
DESCRIPTION:
URL:https://edmontonmandir.com/event/pradosh-vrat-2/
END:VEVENT
BEGIN:VEVENT
DTSTART;TZID=America/Edmonton:20190910T070000
DTEND;TZID=America/Edmonton:20190910T070000
DTSTAMP:20260419T234500
CREATED:20190707T213356Z
LAST-MODIFIED:20190707T213356Z
UID:7572-1568098800-1568098800@edmontonmandir.com
SUMMARY:ONAM
DESCRIPTION:
URL:https://edmontonmandir.com/event/onam/
END:VEVENT
BEGIN:VEVENT
DTSTART;TZID=America/Edmonton:20190909T070000
DTEND;TZID=America/Edmonton:20190909T070000
DTSTAMP:20260419T234500
CREATED:20190707T213356Z
LAST-MODIFIED:20190707T213356Z
UID:7570-1568012400-1568012400@edmontonmandir.com
SUMMARY:PARSAVA EKADASHI
DESCRIPTION:
URL:https://edmontonmandir.com/event/parsava-ekadashi/
END:VEVENT
BEGIN:VEVENT
DTSTART;TZID=America/Edmonton:20190906T070000
DTEND;TZID=America/Edmonton:20190906T070000
DTSTAMP:20260419T234500
CREATED:20190707T213356Z
LAST-MODIFIED:20190707T213356Z
UID:7569-1567753200-1567753200@edmontonmandir.com
SUMMARY:RADHA ASTHAMI
DESCRIPTION:
URL:https://edmontonmandir.com/event/radha-asthami/
END:VEVENT
BEGIN:VEVENT
DTSTART;TZID=America/Edmonton:20190905T070000
DTEND;TZID=America/Edmonton:20190905T070000
DTSTAMP:20260419T234500
CREATED:20190707T213355Z
LAST-MODIFIED:20190707T213355Z
UID:7568-1567666800-1567666800@edmontonmandir.com
SUMMARY:MAHALAXMI VRAT BEGINS
DESCRIPTION:
URL:https://edmontonmandir.com/event/mahalaxmi-vrat-begins/
END:VEVENT
BEGIN:VEVENT
DTSTART;TZID=America/Edmonton:20190902T070000
DTEND;TZID=America/Edmonton:20190902T070000
DTSTAMP:20260419T234500
CREATED:20190707T213355Z
LAST-MODIFIED:20190707T213355Z
UID:7567-1567407600-1567407600@edmontonmandir.com
SUMMARY:RISHI PANCHAMI
DESCRIPTION:
URL:https://edmontonmandir.com/event/rishi-panchami/
END:VEVENT
BEGIN:VEVENT
DTSTART;TZID=America/Edmonton:20190901T070000
DTEND;TZID=America/Edmonton:20190901T070000
DTSTAMP:20260419T234500
CREATED:20190707T213355Z
LAST-MODIFIED:20190707T213355Z
UID:7565-1567321200-1567321200@edmontonmandir.com
SUMMARY:VARAHA JAYANTI
DESCRIPTION:
URL:https://edmontonmandir.com/event/varaha-jayanti/
END:VEVENT
BEGIN:VEVENT
DTSTART;TZID=America/Edmonton:20190901T070000
DTEND;TZID=America/Edmonton:20190901T070000
DTSTAMP:20260419T234500
CREATED:20190707T213355Z
LAST-MODIFIED:20190707T213355Z
UID:7566-1567321200-1567321200@edmontonmandir.com
SUMMARY:HARIYALI TEEJ
DESCRIPTION:
URL:https://edmontonmandir.com/event/hariyali-teej/
END:VEVENT
BEGIN:VEVENT
DTSTART;TZID=America/Edmonton:20190829T070000
DTEND;TZID=America/Edmonton:20190829T070000
DTSTAMP:20260419T234500
CREATED:20190707T213354Z
LAST-MODIFIED:20190707T213354Z
UID:7564-1567062000-1567062000@edmontonmandir.com
SUMMARY:BHADRAPADA AMAVASYA
DESCRIPTION:
URL:https://edmontonmandir.com/event/bhadrapada-amavasya/
END:VEVENT
BEGIN:VEVENT
DTSTART;TZID=America/Edmonton:20190827T070000
DTEND;TZID=America/Edmonton:20190827T070000
DTSTAMP:20260419T234500
CREATED:20190707T213354Z
LAST-MODIFIED:20190707T213354Z
UID:7563-1566889200-1566889200@edmontonmandir.com
SUMMARY:PRADOSH VRAT
DESCRIPTION:
URL:https://edmontonmandir.com/event/pradosh-vrat/
END:VEVENT
BEGIN:VEVENT
DTSTART;TZID=America/Edmonton:20190826T070000
DTEND;TZID=America/Edmonton:20190826T070000
DTSTAMP:20260419T234500
CREATED:20190707T213354Z
LAST-MODIFIED:20190707T213354Z
UID:7562-1566802800-1566802800@edmontonmandir.com
SUMMARY:AJA EKADASHI
DESCRIPTION:
URL:https://edmontonmandir.com/event/aja-ekadashi/
END:VEVENT
BEGIN:VEVENT
DTSTART;TZID=America/Edmonton:20190823T070000
DTEND;TZID=America/Edmonton:20190823T070000
DTSTAMP:20260419T234500
CREATED:20190707T213354Z
LAST-MODIFIED:20190707T213354Z
UID:7561-1566543600-1566543600@edmontonmandir.com
SUMMARY:KRISHNA JANMASHTAMI
DESCRIPTION:
URL:https://edmontonmandir.com/event/krishna-janmashtami/
END:VEVENT
BEGIN:VEVENT
DTSTART;TZID=America/Edmonton:20190818T070000
DTEND;TZID=America/Edmonton:20190818T070000
DTSTAMP:20260419T234500
CREATED:20190707T213353Z
LAST-MODIFIED:20190707T213353Z
UID:7560-1566111600-1566111600@edmontonmandir.com
SUMMARY:KAJRI TEEJ
DESCRIPTION:
URL:https://edmontonmandir.com/event/kajri-teej/
END:VEVENT
BEGIN:VEVENT
DTSTART;TZID=America/Edmonton:20190817T070000
DTEND;TZID=America/Edmonton:20190817T070000
DTSTAMP:20260419T234500
CREATED:20190707T213353Z
LAST-MODIFIED:20190707T213353Z
UID:7559-1566025200-1566025200@edmontonmandir.com
SUMMARY:SIMHA SANKRANTI
DESCRIPTION:
URL:https://edmontonmandir.com/event/simha-sankranti/
END:VEVENT
BEGIN:VEVENT
DTSTART;TZID=America/Edmonton:20190814T070000
DTEND;TZID=America/Edmonton:20190814T070000
DTSTAMP:20260419T234500
CREATED:20190707T213353Z
LAST-MODIFIED:20190707T213353Z
UID:7556-1565766000-1565766000@edmontonmandir.com
SUMMARY:YAJRVEDA UPAKRAMA
DESCRIPTION:
URL:https://edmontonmandir.com/event/yajrveda-upakrama/
END:VEVENT
BEGIN:VEVENT
DTSTART;TZID=America/Edmonton:20190814T070000
DTEND;TZID=America/Edmonton:20190814T070000
DTSTAMP:20260419T234500
CREATED:20190707T213353Z
LAST-MODIFIED:20190707T213353Z
UID:7557-1565766000-1565766000@edmontonmandir.com
SUMMARY:HAYAGRIVA JAYANTI
DESCRIPTION:
URL:https://edmontonmandir.com/event/hayagriva-jayanti/
END:VEVENT
BEGIN:VEVENT
DTSTART;TZID=America/Edmonton:20190814T070000
DTEND;TZID=America/Edmonton:20190814T070000
DTSTAMP:20260419T234500
CREATED:20190707T213353Z
LAST-MODIFIED:20190707T213353Z
UID:7558-1565766000-1565766000@edmontonmandir.com
SUMMARY:SATYA NARAYAN VRAT
DESCRIPTION:
URL:https://edmontonmandir.com/event/satya-narayan-vrat/
END:VEVENT
BEGIN:VEVENT
DTSTART;TZID=America/Edmonton:20190814T070000
DTEND;TZID=America/Edmonton:20190814T070000
DTSTAMP:20260419T234500
CREATED:20190707T213352Z
LAST-MODIFIED:20190707T213352Z
UID:7554-1565766000-1565766000@edmontonmandir.com
SUMMARY:SHRAVANA POORNIMA
DESCRIPTION:
URL:https://edmontonmandir.com/event/shravana-poornima/
END:VEVENT
BEGIN:VEVENT
DTSTART;TZID=America/Edmonton:20190814T070000
DTEND;TZID=America/Edmonton:20190814T070000
DTSTAMP:20260419T234500
CREATED:20190707T213352Z
LAST-MODIFIED:20190707T213352Z
UID:7555-1565766000-1565766000@edmontonmandir.com
SUMMARY:RAKSHA BANDHAN
DESCRIPTION:
URL:https://edmontonmandir.com/event/raksha-bandhan/
END:VEVENT
BEGIN:VEVENT
DTSTART;TZID=America/Edmonton:20190812T070000
DTEND;TZID=America/Edmonton:20190812T070000
DTSTAMP:20260419T234500
CREATED:20190707T213352Z
LAST-MODIFIED:20190707T213352Z
UID:7553-1565593200-1565593200@edmontonmandir.com
SUMMARY:LAST SHRAVANA SOMVAR VRAT
DESCRIPTION:
URL:https://edmontonmandir.com/event/last-shravana-somvar-vrat/
END:VEVENT
BEGIN:VEVENT
DTSTART;TZID=America/Edmonton:20190812T070000
DTEND;TZID=America/Edmonton:20190812T070000
DTSTAMP:20260419T234500
CREATED:20190707T213351Z
LAST-MODIFIED:20190707T213351Z
UID:7552-1565593200-1565593200@edmontonmandir.com
SUMMARY:SOM PRADOSH
DESCRIPTION:
URL:https://edmontonmandir.com/event/som-pradosh-2/
END:VEVENT
BEGIN:VEVENT
DTSTART;TZID=America/Edmonton:20190810T070000
DTEND;TZID=America/Edmonton:20190810T070000
DTSTAMP:20260419T234500
CREATED:20190707T213351Z
LAST-MODIFIED:20190707T213351Z
UID:7551-1565420400-1565420400@edmontonmandir.com
SUMMARY:SHRAVANA PUTRADA EKADASHI
DESCRIPTION:
URL:https://edmontonmandir.com/event/shravana-putrada-ekadashi/
END:VEVENT
BEGIN:VEVENT
DTSTART;TZID=America/Edmonton:20190809T070000
DTEND;TZID=America/Edmonton:20190809T070000
DTSTAMP:20260419T234500
CREATED:20190707T213351Z
LAST-MODIFIED:20190707T213351Z
UID:7550-1565334000-1565334000@edmontonmandir.com
SUMMARY:VARLAXMI VRAT
DESCRIPTION:
URL:https://edmontonmandir.com/event/varlaxmi-vrat/
END:VEVENT
BEGIN:VEVENT
DTSTART;TZID=America/Edmonton:20190805T070000
DTEND;TZID=America/Edmonton:20190805T070000
DTSTAMP:20260419T234500
CREATED:20190707T213351Z
LAST-MODIFIED:20190707T213351Z
UID:7549-1564988400-1564988400@edmontonmandir.com
SUMMARY:THIRD SHRAVANA SOMVAR VRAT
DESCRIPTION:
URL:https://edmontonmandir.com/event/third-shravana-somvar-vrat/
END:VEVENT
BEGIN:VEVENT
DTSTART;TZID=America/Edmonton:20190804T070000
DTEND;TZID=America/Edmonton:20190804T070000
DTSTAMP:20260419T234500
CREATED:20190707T213351Z
LAST-MODIFIED:20190707T213351Z
UID:7548-1564902000-1564902000@edmontonmandir.com
SUMMARY:NAAG PANCHAMI
DESCRIPTION:
URL:https://edmontonmandir.com/event/naag-panchami/
END:VEVENT
BEGIN:VEVENT
DTSTART;TZID=America/Edmonton:20190731T070000
DTEND;TZID=America/Edmonton:20190731T070000
DTSTAMP:20260419T234500
CREATED:20190707T213350Z
LAST-MODIFIED:20190707T213350Z
UID:7546-1564556400-1564556400@edmontonmandir.com
SUMMARY:SHRAVANA AMAVASYA
DESCRIPTION:
URL:https://edmontonmandir.com/event/shravana-amavasya/
END:VEVENT
END:VCALENDAR