BEGIN:VCALENDAR
VERSION:2.0
PRODID:-//Edmonton Mandir - ECPv6.15.20//NONSGML v1.0//EN
CALSCALE:GREGORIAN
METHOD:PUBLISH
X-WR-CALNAME:Edmonton Mandir
X-ORIGINAL-URL:https://edmontonmandir.com
X-WR-CALDESC:Events for Edmonton Mandir
REFRESH-INTERVAL;VALUE=DURATION:PT1H
X-Robots-Tag:noindex
X-PUBLISHED-TTL:PT1H
BEGIN:VTIMEZONE
TZID:America/Edmonton
BEGIN:DAYLIGHT
TZOFFSETFROM:-0700
TZOFFSETTO:-0600
TZNAME:MDT
DTSTART:20180311T090000
END:DAYLIGHT
BEGIN:STANDARD
TZOFFSETFROM:-0600
TZOFFSETTO:-0700
TZNAME:MST
DTSTART:20181104T080000
END:STANDARD
BEGIN:DAYLIGHT
TZOFFSETFROM:-0700
TZOFFSETTO:-0600
TZNAME:MDT
DTSTART:20190310T090000
END:DAYLIGHT
BEGIN:STANDARD
TZOFFSETFROM:-0600
TZOFFSETTO:-0700
TZNAME:MST
DTSTART:20191103T080000
END:STANDARD
BEGIN:DAYLIGHT
TZOFFSETFROM:-0700
TZOFFSETTO:-0600
TZNAME:MDT
DTSTART:20200308T090000
END:DAYLIGHT
BEGIN:STANDARD
TZOFFSETFROM:-0600
TZOFFSETTO:-0700
TZNAME:MST
DTSTART:20201101T080000
END:STANDARD
END:VTIMEZONE
BEGIN:VEVENT
DTSTART;TZID=America/Edmonton:20190719T070000
DTEND;TZID=America/Edmonton:20190719T070000
DTSTAMP:20260419T201552
CREATED:20190707T213349Z
LAST-MODIFIED:20190707T213349Z
UID:7540-1563519600-1563519600@edmontonmandir.com
SUMMARY:JAYA PARVATI ENDS
DESCRIPTION:
URL:https://edmontonmandir.com/event/jaya-parvati-ends/
END:VEVENT
BEGIN:VEVENT
DTSTART;TZID=America/Edmonton:20190716T070000
DTEND;TZID=America/Edmonton:20190716T070000
DTSTAMP:20260419T201552
CREATED:20190707T213349Z
LAST-MODIFIED:20190707T213349Z
UID:7538-1563260400-1563260400@edmontonmandir.com
SUMMARY:ASHADA POORNIMA
DESCRIPTION:
URL:https://edmontonmandir.com/event/ashada-poornima/
END:VEVENT
BEGIN:VEVENT
DTSTART;TZID=America/Edmonton:20190716T070000
DTEND;TZID=America/Edmonton:20190716T070000
DTSTAMP:20260419T201552
CREATED:20190707T213349Z
LAST-MODIFIED:20190707T213349Z
UID:7539-1563260400-1563260400@edmontonmandir.com
SUMMARY:GURU VYAS POORNIMA
DESCRIPTION:
URL:https://edmontonmandir.com/event/guru-vyas-poornima/
END:VEVENT
BEGIN:VEVENT
DTSTART;TZID=America/Edmonton:20190713T070000
DTEND;TZID=America/Edmonton:20190713T070000
DTSTAMP:20260419T201552
CREATED:20190707T213347Z
LAST-MODIFIED:20190707T213347Z
UID:7537-1563001200-1563001200@edmontonmandir.com
SUMMARY:JAYA PARVATI VRAT BEGINS
DESCRIPTION:
URL:https://edmontonmandir.com/event/jaya-parvati-vrat-begins/
END:VEVENT
BEGIN:VEVENT
DTSTART;TZID=America/Edmonton:20190712T070000
DTEND;TZID=America/Edmonton:20190712T070000
DTSTAMP:20260419T201552
CREATED:20190707T213347Z
LAST-MODIFIED:20190707T213347Z
UID:7536-1562914800-1562914800@edmontonmandir.com
SUMMARY:GAURI VRAT BEGINS
DESCRIPTION:
URL:https://edmontonmandir.com/event/gauri-vrat-begins/
END:VEVENT
BEGIN:VEVENT
DTSTART;TZID=America/Edmonton:20190712T070000
DTEND;TZID=America/Edmonton:20190712T070000
DTSTAMP:20260419T201552
CREATED:20190707T213347Z
LAST-MODIFIED:20190707T213347Z
UID:7534-1562914800-1562914800@edmontonmandir.com
SUMMARY:DEVSHAYANI EKADASHI
DESCRIPTION:
URL:https://edmontonmandir.com/event/devshayani-ekadashi/
END:VEVENT
BEGIN:VEVENT
DTSTART;TZID=America/Edmonton:20190712T070000
DTEND;TZID=America/Edmonton:20190712T070000
DTSTAMP:20260419T201552
CREATED:20190707T213347Z
LAST-MODIFIED:20190707T213347Z
UID:7535-1562914800-1562914800@edmontonmandir.com
SUMMARY:LORD SRI VISHNU GOES FOR SLEEP
DESCRIPTION:
URL:https://edmontonmandir.com/event/lord-sri-vishnu-goes-for-sleep/
END:VEVENT
BEGIN:VEVENT
DTSTART;TZID=America/Edmonton:20190711T070000
DTEND;TZID=America/Edmonton:20190711T070000
DTSTAMP:20260419T201552
CREATED:20190707T213347Z
LAST-MODIFIED:20190707T213347Z
UID:7533-1562828400-1562828400@edmontonmandir.com
SUMMARY:GANGA DUSHERA
DESCRIPTION:
URL:https://edmontonmandir.com/event/ganga-dushera/
END:VEVENT
END:VCALENDAR